BEGIN:VCALENDAR
VERSION:2.0
PRODID:-//Sir Joseph Williamson&#039;s Mathematical School - ECPv6.15.20//NONSGML v1.0//EN
CALSCALE:GREGORIAN
METHOD:PUBLISH
X-WR-CALNAME:Sir Joseph Williamson&#039;s Mathematical School
X-ORIGINAL-URL:https://sjwms.org.uk
X-WR-CALDESC:Events for Sir Joseph Williamson&#039;s Mathematical School
REFRESH-INTERVAL;VALUE=DURATION:PT1H
X-Robots-Tag:noindex
X-PUBLISHED-TTL:PT1H
BEGIN:VTIMEZONE
TZID:Europe/London
BEGIN:DAYLIGHT
TZOFFSETFROM:+0000
TZOFFSETTO:+0100
TZNAME:BST
DTSTART:20250330T010000
END:DAYLIGHT
BEGIN:STANDARD
TZOFFSETFROM:+0100
TZOFFSETTO:+0000
TZNAME:GMT
DTSTART:20251026T010000
END:STANDARD
BEGIN:DAYLIGHT
TZOFFSETFROM:+0000
TZOFFSETTO:+0100
TZNAME:BST
DTSTART:20260329T010000
END:DAYLIGHT
BEGIN:STANDARD
TZOFFSETFROM:+0100
TZOFFSETTO:+0000
TZNAME:GMT
DTSTART:20261025T010000
END:STANDARD
BEGIN:DAYLIGHT
TZOFFSETFROM:+0000
TZOFFSETTO:+0100
TZNAME:BST
DTSTART:20270328T010000
END:DAYLIGHT
BEGIN:STANDARD
TZOFFSETFROM:+0100
TZOFFSETTO:+0000
TZNAME:GMT
DTSTART:20271031T010000
END:STANDARD
END:VTIMEZONE
BEGIN:VEVENT
DTSTART;VALUE=DATE:20260106
DTEND;VALUE=DATE:20260107
DTSTAMP:20260421T153911
CREATED:20250805T081106Z
LAST-MODIFIED:20250805T081106Z
UID:4299-1767657600-1767743999@sjwms.org.uk
SUMMARY:TERM 3 BEGINS
DESCRIPTION:
URL:https://sjwms.org.uk/event/term-3-begins-2/
CATEGORIES:School Dates,Term Dates
END:VEVENT
BEGIN:VEVENT
DTSTART;TZID=Europe/London:20260106T154500
DTEND;TZID=Europe/London:20260106T164500
DTSTAMP:20260421T153911
CREATED:20250805T081205Z
LAST-MODIFIED:20250805T081205Z
UID:4300-1767714300-1767717900@sjwms.org.uk
SUMMARY:A Level certificate collection
DESCRIPTION:For Ex-Year 13 2025 leavers
URL:https://sjwms.org.uk/event/a-level-certificate-collection-2/
CATEGORIES:School Dates
END:VEVENT
BEGIN:VEVENT
DTSTART;VALUE=DATE:20260107
DTEND;VALUE=DATE:20260117
DTSTAMP:20260421T153911
CREATED:20250805T081247Z
LAST-MODIFIED:20250805T081247Z
UID:4301-1767744000-1768607999@sjwms.org.uk
SUMMARY:Year 13 Mock exams
DESCRIPTION:
URL:https://sjwms.org.uk/event/year-13-mock-exams-2/
CATEGORIES:School Dates
END:VEVENT
BEGIN:VEVENT
DTSTART;TZID=Europe/London:20260108T160000
DTEND;TZID=Europe/London:20260108T200000
DTSTAMP:20260421T153911
CREATED:20250805T081328Z
LAST-MODIFIED:20250805T081328Z
UID:4302-1767888000-1767902400@sjwms.org.uk
SUMMARY:Year 9 Parents' evening
DESCRIPTION:Remote via SchoolCloud
URL:https://sjwms.org.uk/event/year-9-parents-evening-2/
CATEGORIES:School Dates
END:VEVENT
BEGIN:VEVENT
DTSTART;TZID=Europe/London:20260112T190000
DTEND;TZID=Europe/London:20260112T203000
DTSTAMP:20260421T153911
CREATED:20251027T140212Z
LAST-MODIFIED:20251027T140212Z
UID:4525-1768244400-1768249800@sjwms.org.uk
SUMMARY:RMSA meeting
DESCRIPTION:
URL:https://sjwms.org.uk/event/rmsa-meeting/
LOCATION:Room E1
END:VEVENT
BEGIN:VEVENT
DTSTART;TZID=Europe/London:20260115T183000
DTEND;TZID=Europe/London:20260115T200000
DTSTAMP:20260421T153911
CREATED:20250805T081510Z
LAST-MODIFIED:20250805T081510Z
UID:4303-1768501800-1768507200@sjwms.org.uk
SUMMARY:Sixth Form Open evening
DESCRIPTION:No appointment required
URL:https://sjwms.org.uk/event/sixth-form-open-evening-2/
CATEGORIES:School Dates
END:VEVENT
BEGIN:VEVENT
DTSTART;VALUE=DATE:20260124
DTEND;VALUE=DATE:20260125
DTSTAMP:20260421T153911
CREATED:20250805T081811Z
LAST-MODIFIED:20250805T081811Z
UID:4304-1769212800-1769299199@sjwms.org.uk
SUMMARY:Sporting aptitude test for Y12 new entrants
DESCRIPTION:
URL:https://sjwms.org.uk/event/sporting-aptitude-test-for-y12-new-entrants/
CATEGORIES:School Dates
END:VEVENT
BEGIN:VEVENT
DTSTART;VALUE=DATE:20260128
DTEND;VALUE=DATE:20260129
DTSTAMP:20260421T153911
CREATED:20250805T081850Z
LAST-MODIFIED:20250805T081850Z
UID:4305-1769558400-1769644799@sjwms.org.uk
SUMMARY:TAG Day
DESCRIPTION:
URL:https://sjwms.org.uk/event/tag-day-2/
CATEGORIES:School Dates
END:VEVENT
BEGIN:VEVENT
DTSTART;TZID=Europe/London:20260128T190000
DTEND;TZID=Europe/London:20260128T203000
DTSTAMP:20260421T153911
CREATED:20250805T081949Z
LAST-MODIFIED:20250805T081949Z
UID:4306-1769626800-1769632200@sjwms.org.uk
SUMMARY:Year 9 Options evening
DESCRIPTION:
URL:https://sjwms.org.uk/event/year-9-options-evening/
CATEGORIES:School Dates
END:VEVENT
END:VCALENDAR