BEGIN:VCALENDAR
VERSION:2.0
PRODID:-//Sir Joseph Williamson&#039;s Mathematical School - ECPv6.15.20//NONSGML v1.0//EN
CALSCALE:GREGORIAN
METHOD:PUBLISH
X-ORIGINAL-URL:https://sjwms.org.uk
X-WR-CALDESC:Events for Sir Joseph Williamson&#039;s Mathematical School
REFRESH-INTERVAL;VALUE=DURATION:PT1H
X-Robots-Tag:noindex
X-PUBLISHED-TTL:PT1H
BEGIN:VTIMEZONE
TZID:Europe/London
BEGIN:DAYLIGHT
TZOFFSETFROM:+0000
TZOFFSETTO:+0100
TZNAME:BST
DTSTART:20250330T010000
END:DAYLIGHT
BEGIN:STANDARD
TZOFFSETFROM:+0100
TZOFFSETTO:+0000
TZNAME:GMT
DTSTART:20251026T010000
END:STANDARD
BEGIN:DAYLIGHT
TZOFFSETFROM:+0000
TZOFFSETTO:+0100
TZNAME:BST
DTSTART:20260329T010000
END:DAYLIGHT
BEGIN:STANDARD
TZOFFSETFROM:+0100
TZOFFSETTO:+0000
TZNAME:GMT
DTSTART:20261025T010000
END:STANDARD
BEGIN:DAYLIGHT
TZOFFSETFROM:+0000
TZOFFSETTO:+0100
TZNAME:BST
DTSTART:20270328T010000
END:DAYLIGHT
BEGIN:STANDARD
TZOFFSETFROM:+0100
TZOFFSETTO:+0000
TZNAME:GMT
DTSTART:20271031T010000
END:STANDARD
END:VTIMEZONE
BEGIN:VEVENT
DTSTART;TZID=Europe/London:20260617T190000
DTEND;TZID=Europe/London:20260617T200000
DTSTAMP:20260420T031147
CREATED:20250805T084758Z
LAST-MODIFIED:20250805T084758Z
UID:4330-1781722800-1781726400@sjwms.org.uk
SUMMARY:Junior Prize Giving (Y8 & 9)
DESCRIPTION:
URL:https://sjwms.org.uk/event/junior-prize-giving-y8-9/
CATEGORIES:School Dates
END:VEVENT
BEGIN:VEVENT
DTSTART;VALUE=DATE:20260622
DTEND;VALUE=DATE:20260704
DTSTAMP:20260420T031147
CREATED:20250805T084834Z
LAST-MODIFIED:20250805T084834Z
UID:4331-1782086400-1783123199@sjwms.org.uk
SUMMARY:Year 10 End of year exams
DESCRIPTION:
URL:https://sjwms.org.uk/event/year-10-end-of-year-exams-2/
CATEGORIES:School Dates
END:VEVENT
BEGIN:VEVENT
DTSTART;TZID=Europe/London:20260625T180000
DTEND;TZID=Europe/London:20260625T190000
DTSTAMP:20260420T031147
CREATED:20250805T084922Z
LAST-MODIFIED:20250805T084922Z
UID:4332-1782410400-1782414000@sjwms.org.uk
SUMMARY:Summer Concert
DESCRIPTION:
URL:https://sjwms.org.uk/event/summer-concert-2/
CATEGORIES:School Dates
END:VEVENT
BEGIN:VEVENT
DTSTART;VALUE=DATE:20260626
DTEND;VALUE=DATE:20260627
DTSTAMP:20260420T031147
CREATED:20250805T084953Z
LAST-MODIFIED:20250805T084953Z
UID:4333-1782432000-1782518399@sjwms.org.uk
SUMMARY:Year 13 Leavers' afternoon and BBQ
DESCRIPTION:
URL:https://sjwms.org.uk/event/year-13-leavers-afternoon-and-bbq/
CATEGORIES:School Dates
END:VEVENT
BEGIN:VEVENT
DTSTART;VALUE=DATE:20260702
DTEND;VALUE=DATE:20260703
DTSTAMP:20260420T031147
CREATED:20250805T085018Z
LAST-MODIFIED:20250805T085018Z
UID:4334-1782950400-1783036799@sjwms.org.uk
SUMMARY:Year 6 New Entrants Induction Day
DESCRIPTION:
URL:https://sjwms.org.uk/event/year-6-new-entrants-induction-day/
CATEGORIES:School Dates
END:VEVENT
BEGIN:VEVENT
DTSTART;TZID=Europe/London:20260704T103000
DTEND;TZID=Europe/London:20260704T153000
DTSTAMP:20260420T031147
CREATED:20250805T085109Z
LAST-MODIFIED:20250805T085637Z
UID:4335-1783161000-1783179000@sjwms.org.uk
SUMMARY:Foundation Day - Compulsory Day of Attendance
DESCRIPTION:
URL:https://sjwms.org.uk/event/foundation-day-compulsory-day-of-attendance/
CATEGORIES:School Dates,Term Dates
END:VEVENT
BEGIN:VEVENT
DTSTART;VALUE=DATE:20260706
DTEND;VALUE=DATE:20260707
DTSTAMP:20260420T031147
CREATED:20250805T085145Z
LAST-MODIFIED:20250805T085152Z
UID:4336-1783296000-1783382399@sjwms.org.uk
SUMMARY:Day off in Lieu of Foundation Day
DESCRIPTION:
URL:https://sjwms.org.uk/event/day-off-in-lieu-of-foundation-day-2/
CATEGORIES:School Dates,Term Dates
END:VEVENT
BEGIN:VEVENT
DTSTART;VALUE=DATE:20260706
DTEND;VALUE=DATE:20260711
DTSTAMP:20260420T031147
CREATED:20250805T085229Z
LAST-MODIFIED:20250805T085229Z
UID:4337-1783296000-1783727999@sjwms.org.uk
SUMMARY:Year 12 Work Experience week
DESCRIPTION:
URL:https://sjwms.org.uk/event/year-12-work-experience-week-2/
CATEGORIES:School Dates
END:VEVENT
BEGIN:VEVENT
DTSTART;VALUE=DATE:20260707
DTEND;VALUE=DATE:20260710
DTSTAMP:20260420T031147
CREATED:20250805T085301Z
LAST-MODIFIED:20250805T085306Z
UID:4338-1783382400-1783641599@sjwms.org.uk
SUMMARY:Sixth Form Induction
DESCRIPTION:
URL:https://sjwms.org.uk/event/sixth-form-induction/
CATEGORIES:School Dates
END:VEVENT
BEGIN:VEVENT
DTSTART;TZID=Europe/London:20260714T190000
DTEND;TZID=Europe/London:20260714T200000
DTSTAMP:20260420T031147
CREATED:20250805T085345Z
LAST-MODIFIED:20250805T085345Z
UID:4339-1784055600-1784059200@sjwms.org.uk
SUMMARY:Senior Prize Giving (Y10 & 12)
DESCRIPTION:
URL:https://sjwms.org.uk/event/senior-prize-giving-y10-12/
CATEGORIES:School Dates
END:VEVENT
BEGIN:VEVENT
DTSTART;VALUE=DATE:20260717
DTEND;VALUE=DATE:20260718
DTSTAMP:20260420T031147
CREATED:20250805T085449Z
LAST-MODIFIED:20250805T085449Z
UID:4341-1784246400-1784332799@sjwms.org.uk
SUMMARY:TERM 6 ENDS
DESCRIPTION:
URL:https://sjwms.org.uk/event/term-6-ends/
CATEGORIES:School Dates,Term Dates
END:VEVENT
BEGIN:VEVENT
DTSTART;VALUE=DATE:20260813
DTEND;VALUE=DATE:20260814
DTSTAMP:20260420T031147
CREATED:20250805T085518Z
LAST-MODIFIED:20250805T085518Z
UID:4342-1786579200-1786665599@sjwms.org.uk
SUMMARY:A Level Results day
DESCRIPTION:
URL:https://sjwms.org.uk/event/a-level-results-day/
CATEGORIES:School Dates
END:VEVENT
BEGIN:VEVENT
DTSTART;VALUE=DATE:20260820
DTEND;VALUE=DATE:20260821
DTSTAMP:20260420T031147
CREATED:20250805T085545Z
LAST-MODIFIED:20250805T085545Z
UID:4343-1787184000-1787270399@sjwms.org.uk
SUMMARY:GCSE Results day
DESCRIPTION:
URL:https://sjwms.org.uk/event/gcse-results-day/
CATEGORIES:School Dates
END:VEVENT
END:VCALENDAR