BEGIN:VCALENDAR
VERSION:2.0
PRODID:-//Sir Joseph Williamson&#039;s Mathematical School - ECPv6.15.20//NONSGML v1.0//EN
CALSCALE:GREGORIAN
METHOD:PUBLISH
X-WR-CALNAME:Sir Joseph Williamson&#039;s Mathematical School
X-ORIGINAL-URL:https://sjwms.org.uk
X-WR-CALDESC:Events for Sir Joseph Williamson&#039;s Mathematical School
REFRESH-INTERVAL;VALUE=DURATION:PT1H
X-Robots-Tag:noindex
X-PUBLISHED-TTL:PT1H
BEGIN:VTIMEZONE
TZID:Europe/London
BEGIN:DAYLIGHT
TZOFFSETFROM:+0000
TZOFFSETTO:+0100
TZNAME:BST
DTSTART:20250330T010000
END:DAYLIGHT
BEGIN:STANDARD
TZOFFSETFROM:+0100
TZOFFSETTO:+0000
TZNAME:GMT
DTSTART:20251026T010000
END:STANDARD
BEGIN:DAYLIGHT
TZOFFSETFROM:+0000
TZOFFSETTO:+0100
TZNAME:BST
DTSTART:20260329T010000
END:DAYLIGHT
BEGIN:STANDARD
TZOFFSETFROM:+0100
TZOFFSETTO:+0000
TZNAME:GMT
DTSTART:20261025T010000
END:STANDARD
BEGIN:DAYLIGHT
TZOFFSETFROM:+0000
TZOFFSETTO:+0100
TZNAME:BST
DTSTART:20270328T010000
END:DAYLIGHT
BEGIN:STANDARD
TZOFFSETFROM:+0100
TZOFFSETTO:+0000
TZNAME:GMT
DTSTART:20271031T010000
END:STANDARD
END:VTIMEZONE
BEGIN:VEVENT
DTSTART;VALUE=DATE:20260205
DTEND;VALUE=DATE:20260206
DTSTAMP:20260420T005840
CREATED:20250805T082100Z
LAST-MODIFIED:20250805T082100Z
UID:4307-1770249600-1770335999@sjwms.org.uk
SUMMARY:Closing date for Sixth Form applications
DESCRIPTION:
URL:https://sjwms.org.uk/event/closing-date-for-sixth-form-applications-2/
CATEGORIES:School Dates
END:VEVENT
BEGIN:VEVENT
DTSTART;VALUE=DATE:20260206
DTEND;VALUE=DATE:20260207
DTSTAMP:20260420T005840
CREATED:20250805T082140Z
LAST-MODIFIED:20250805T082140Z
UID:4308-1770336000-1770422399@sjwms.org.uk
SUMMARY:Year 9 GCSE Options deadline
DESCRIPTION:
URL:https://sjwms.org.uk/event/year-9-gcse-options-deadline-2/
CATEGORIES:School Dates
END:VEVENT
BEGIN:VEVENT
DTSTART;VALUE=DATE:20260212
DTEND;VALUE=DATE:20260213
DTSTAMP:20260420T005840
CREATED:20250805T082226Z
LAST-MODIFIED:20250805T082226Z
UID:4309-1770854400-1770940799@sjwms.org.uk
SUMMARY:TERM 3 ENDS
DESCRIPTION:
URL:https://sjwms.org.uk/event/term-3-ends/
CATEGORIES:School Dates,Term Dates
END:VEVENT
BEGIN:VEVENT
DTSTART;VALUE=DATE:20260223
DTEND;VALUE=DATE:20260224
DTSTAMP:20260420T005840
CREATED:20250805T082302Z
LAST-MODIFIED:20250805T082302Z
UID:4310-1771804800-1771891199@sjwms.org.uk
SUMMARY:TERM 4 BEGINS
DESCRIPTION:
URL:https://sjwms.org.uk/event/term-4-begins-2/
CATEGORIES:School Dates,Term Dates
END:VEVENT
BEGIN:VEVENT
DTSTART;TZID=Europe/London:20260225T160000
DTEND;TZID=Europe/London:20260225T200000
DTSTAMP:20260420T005840
CREATED:20250805T082354Z
LAST-MODIFIED:20250805T082354Z
UID:4311-1772035200-1772049600@sjwms.org.uk
SUMMARY:Year 10 Parents Evening
DESCRIPTION:Remote via SchoolCloud
URL:https://sjwms.org.uk/event/year-10-parents-evening-2/
CATEGORIES:School Dates
END:VEVENT
BEGIN:VEVENT
DTSTART;TZID=Europe/London:20260302T173000
DTEND;TZID=Europe/London:20260302T183000
DTSTAMP:20260420T005840
CREATED:20250805T082444Z
LAST-MODIFIED:20250805T082444Z
UID:4312-1772472600-1772476200@sjwms.org.uk
SUMMARY:Sixth Form Music Academy
DESCRIPTION:
URL:https://sjwms.org.uk/event/sixth-form-music-academy/
LOCATION:Main Hall
CATEGORIES:School Dates
END:VEVENT
BEGIN:VEVENT
DTSTART;TZID=Europe/London:20260302T190000
DTEND;TZID=Europe/London:20260302T203000
DTSTAMP:20260420T005840
CREATED:20260202T104210Z
LAST-MODIFIED:20260202T104210Z
UID:4636-1772478000-1772483400@sjwms.org.uk
SUMMARY:RMSA Meeting
DESCRIPTION:
URL:https://sjwms.org.uk/event/rmsa-meeting-2/
LOCATION:Room E1
END:VEVENT
BEGIN:VEVENT
DTSTART;VALUE=DATE:20260303
DTEND;VALUE=DATE:20260304
DTSTAMP:20260420T005840
CREATED:20250922T125557Z
LAST-MODIFIED:20250922T125557Z
UID:4470-1772496000-1772582399@sjwms.org.uk
SUMMARY:Year 8 HPV Vaccinations
DESCRIPTION:
URL:https://sjwms.org.uk/event/year-8-hpv-vaccinations/
END:VEVENT
BEGIN:VEVENT
DTSTART;TZID=Europe/London:20260306T190000
DTEND;TZID=Europe/London:20260306T213000
DTSTAMP:20260420T005840
CREATED:20251008T134525Z
LAST-MODIFIED:20251008T134525Z
UID:4497-1772823600-1772832600@sjwms.org.uk
SUMMARY:RMSA Quiz night
DESCRIPTION:
URL:https://sjwms.org.uk/event/rmsa-quiz-night-2/
END:VEVENT
BEGIN:VEVENT
DTSTART;VALUE=DATE:20260316
DTEND;VALUE=DATE:20260317
DTSTAMP:20260420T005840
CREATED:20250805T082528Z
LAST-MODIFIED:20250805T082528Z
UID:4313-1773619200-1773705599@sjwms.org.uk
SUMMARY:Year 6 Languages information launch
DESCRIPTION:
URL:https://sjwms.org.uk/event/year-6-languages-information-launch/
CATEGORIES:School Dates
END:VEVENT
BEGIN:VEVENT
DTSTART;TZID=Europe/London:20260326T190000
DTEND;TZID=Europe/London:20260326T210000
DTSTAMP:20260420T005840
CREATED:20250805T082625Z
LAST-MODIFIED:20250805T082625Z
UID:4314-1774551600-1774558800@sjwms.org.uk
SUMMARY:Drama Performance
DESCRIPTION:
URL:https://sjwms.org.uk/event/drama-performance/
LOCATION:Main Hall
CATEGORIES:School Dates
END:VEVENT
BEGIN:VEVENT
DTSTART;TZID=Europe/London:20260327T190000
DTEND;TZID=Europe/London:20260327T210000
DTSTAMP:20260420T005840
CREATED:20250805T082701Z
LAST-MODIFIED:20250805T082701Z
UID:4315-1774638000-1774645200@sjwms.org.uk
SUMMARY:Drama Performance
DESCRIPTION:
URL:https://sjwms.org.uk/event/drama-performance-2/
LOCATION:Main Hall
CATEGORIES:School Dates
END:VEVENT
BEGIN:VEVENT
DTSTART;VALUE=DATE:20260401
DTEND;VALUE=DATE:20260402
DTSTAMP:20260420T005840
CREATED:20250805T082730Z
LAST-MODIFIED:20250805T082730Z
UID:4316-1775001600-1775087999@sjwms.org.uk
SUMMARY:TAG Day
DESCRIPTION:
URL:https://sjwms.org.uk/event/tag-day-3/
CATEGORIES:School Dates
END:VEVENT
BEGIN:VEVENT
DTSTART;VALUE=DATE:20260402
DTEND;VALUE=DATE:20260403
DTSTAMP:20260420T005840
CREATED:20250805T082758Z
LAST-MODIFIED:20250805T082758Z
UID:4317-1775088000-1775174399@sjwms.org.uk
SUMMARY:TERM 4 ENDS
DESCRIPTION:
URL:https://sjwms.org.uk/event/term-4-ends/
CATEGORIES:School Dates,Term Dates
END:VEVENT
BEGIN:VEVENT
DTSTART;VALUE=DATE:20260420
DTEND;VALUE=DATE:20260421
DTSTAMP:20260420T005840
CREATED:20250805T082826Z
LAST-MODIFIED:20250805T082826Z
UID:4318-1776643200-1776729599@sjwms.org.uk
SUMMARY:TERM 5 BEGINS
DESCRIPTION:
URL:https://sjwms.org.uk/event/term-5-begins-2/
CATEGORIES:School Dates,Term Dates
END:VEVENT
BEGIN:VEVENT
DTSTART;VALUE=DATE:20260420
DTEND;VALUE=DATE:20260502
DTSTAMP:20260420T005840
CREATED:20250805T082909Z
LAST-MODIFIED:20250805T082909Z
UID:4319-1776643200-1777679999@sjwms.org.uk
SUMMARY:Year 9 end of year exams
DESCRIPTION:
URL:https://sjwms.org.uk/event/year-9-end-of-year-exams-2/
CATEGORIES:School Dates
END:VEVENT
BEGIN:VEVENT
DTSTART;TZID=Europe/London:20260424T083000
DTEND;TZID=Europe/London:20260424T130000
DTSTAMP:20260420T005840
CREATED:20260211T102023Z
LAST-MODIFIED:20260211T102023Z
UID:4646-1777019400-1777035600@sjwms.org.uk
SUMMARY:Year 13 friendship photos (Kittle photographic)
DESCRIPTION:
URL:https://sjwms.org.uk/event/year-13-friendship-photos-kittle-photographic/
END:VEVENT
BEGIN:VEVENT
DTSTART;VALUE=DATE:20260427
DTEND;VALUE=DATE:20260509
DTSTAMP:20260420T005840
CREATED:20250805T082936Z
LAST-MODIFIED:20250805T082936Z
UID:4320-1777248000-1778284799@sjwms.org.uk
SUMMARY:Year 8 end of year exams
DESCRIPTION:
URL:https://sjwms.org.uk/event/year-8-end-of-year-exams-2/
CATEGORIES:School Dates
END:VEVENT
BEGIN:VEVENT
DTSTART;TZID=Europe/London:20260427T190000
DTEND;TZID=Europe/London:20260427T203000
DTSTAMP:20260420T005840
CREATED:20260202T104243Z
LAST-MODIFIED:20260202T104243Z
UID:4637-1777316400-1777321800@sjwms.org.uk
SUMMARY:RMSA Meeting
DESCRIPTION:
URL:https://sjwms.org.uk/event/rmsa-meeting-3/
LOCATION:Room E1
END:VEVENT
BEGIN:VEVENT
DTSTART;TZID=Europe/London:20260429T180000
DTEND;TZID=Europe/London:20260429T193000
DTSTAMP:20260420T005840
CREATED:20250805T083041Z
LAST-MODIFIED:20250805T083041Z
UID:4321-1777485600-1777491000@sjwms.org.uk
SUMMARY:Spring Concert
DESCRIPTION:
URL:https://sjwms.org.uk/event/spring-concert-2/
LOCATION:Main Hall
CATEGORIES:School Dates
END:VEVENT
BEGIN:VEVENT
DTSTART;VALUE=DATE:20260504
DTEND;VALUE=DATE:20260505
DTSTAMP:20260420T005840
CREATED:20250805T083207Z
LAST-MODIFIED:20250805T083207Z
UID:4322-1777852800-1777939199@sjwms.org.uk
SUMMARY:Early May Bank Holiday
DESCRIPTION:
URL:https://sjwms.org.uk/event/early-may-bank-holiday/
CATEGORIES:School Dates,Term Dates
END:VEVENT
BEGIN:VEVENT
DTSTART;TZID=Europe/London:20260513T180000
DTEND;TZID=Europe/London:20260513T190000
DTSTAMP:20260420T005840
CREATED:20250805T083245Z
LAST-MODIFIED:20250805T083245Z
UID:4323-1778695200-1778698800@sjwms.org.uk
SUMMARY:Year 7 Prize Giving
DESCRIPTION:
URL:https://sjwms.org.uk/event/year-7-prize-giving-2/
CATEGORIES:School Dates
END:VEVENT
BEGIN:VEVENT
DTSTART;TZID=Europe/London:20260519T160000
DTEND;TZID=Europe/London:20260519T200000
DTSTAMP:20260420T005840
CREATED:20250805T083328Z
LAST-MODIFIED:20250805T083328Z
UID:4324-1779206400-1779220800@sjwms.org.uk
SUMMARY:Year 8 Parents Evening
DESCRIPTION:Remote via SchoolCloud
URL:https://sjwms.org.uk/event/year-8-parents-evening-2/
CATEGORIES:School Dates
END:VEVENT
BEGIN:VEVENT
DTSTART;VALUE=DATE:20260522
DTEND;VALUE=DATE:20260523
DTSTAMP:20260420T005840
CREATED:20250805T083358Z
LAST-MODIFIED:20250805T083410Z
UID:4325-1779408000-1779494399@sjwms.org.uk
SUMMARY:TERM 5 ENDS
DESCRIPTION:
URL:https://sjwms.org.uk/event/term-5-ends/
CATEGORIES:School Dates,Term Dates
END:VEVENT
BEGIN:VEVENT
DTSTART;VALUE=DATE:20260601
DTEND;VALUE=DATE:20260602
DTSTAMP:20260420T005840
CREATED:20250805T083437Z
LAST-MODIFIED:20250805T083437Z
UID:4326-1780272000-1780358399@sjwms.org.uk
SUMMARY:TERM 6 BEGINS
DESCRIPTION:
URL:https://sjwms.org.uk/event/term-6-begins-2/
CATEGORIES:School Dates,Term Dates
END:VEVENT
BEGIN:VEVENT
DTSTART;VALUE=DATE:20260601
DTEND;VALUE=DATE:20260613
DTSTAMP:20260420T005840
CREATED:20250805T084155Z
LAST-MODIFIED:20250805T084155Z
UID:4327-1780272000-1781308799@sjwms.org.uk
SUMMARY:Year 7 End of year exams
DESCRIPTION:
URL:https://sjwms.org.uk/event/year-7-end-of-year-exams-2/
CATEGORIES:School Dates
END:VEVENT
BEGIN:VEVENT
DTSTART;TZID=Europe/London:20260604T190000
DTEND;TZID=Europe/London:20260604T203000
DTSTAMP:20260420T005840
CREATED:20250805T084415Z
LAST-MODIFIED:20250805T084415Z
UID:4328-1780599600-1780605000@sjwms.org.uk
SUMMARY:Year 6 New Entrants information evening (for Sept 2026 entrants)
DESCRIPTION:
URL:https://sjwms.org.uk/event/year-6-new-entrants-information-evening-for-sept-2026-entrants/
CATEGORIES:School Dates
END:VEVENT
BEGIN:VEVENT
DTSTART;TZID=Europe/London:20260608T080000
DTEND;TZID=Europe/London:20260612T170000
DTSTAMP:20260420T005840
CREATED:20251020T144728Z
LAST-MODIFIED:20251020T144728Z
UID:4509-1780905600-1781283600@sjwms.org.uk
SUMMARY:Year 10 Work Experience week
DESCRIPTION:
URL:https://sjwms.org.uk/event/year-10-work-experience-week/
END:VEVENT
BEGIN:VEVENT
DTSTART;TZID=Europe/London:20260608T190000
DTEND;TZID=Europe/London:20260608T203000
DTSTAMP:20260420T005840
CREATED:20260202T104310Z
LAST-MODIFIED:20260202T104310Z
UID:4638-1780945200-1780950600@sjwms.org.uk
SUMMARY:RMSA Meeting
DESCRIPTION:
URL:https://sjwms.org.uk/event/rmsa-meeting-4/
LOCATION:Room E1
END:VEVENT
BEGIN:VEVENT
DTSTART;VALUE=DATE:20260615
DTEND;VALUE=DATE:20260627
DTSTAMP:20260420T005840
CREATED:20250805T084704Z
LAST-MODIFIED:20250805T084704Z
UID:4329-1781481600-1782518399@sjwms.org.uk
SUMMARY:Year 12 End of year exams
DESCRIPTION:
URL:https://sjwms.org.uk/event/year-12-end-of-year-exams-2/
CATEGORIES:School Dates
END:VEVENT
END:VCALENDAR