BEGIN:VCALENDAR
VERSION:2.0
PRODID:-//Sir Joseph Williamson&#039;s Mathematical School - ECPv6.15.20//NONSGML v1.0//EN
CALSCALE:GREGORIAN
METHOD:PUBLISH
X-ORIGINAL-URL:https://sjwms.org.uk
X-WR-CALDESC:Events for Sir Joseph Williamson&#039;s Mathematical School
REFRESH-INTERVAL;VALUE=DURATION:PT1H
X-Robots-Tag:noindex
X-PUBLISHED-TTL:PT1H
BEGIN:VTIMEZONE
TZID:Europe/London
BEGIN:DAYLIGHT
TZOFFSETFROM:+0000
TZOFFSETTO:+0100
TZNAME:BST
DTSTART:20240331T010000
END:DAYLIGHT
BEGIN:STANDARD
TZOFFSETFROM:+0100
TZOFFSETTO:+0000
TZNAME:GMT
DTSTART:20241027T010000
END:STANDARD
BEGIN:DAYLIGHT
TZOFFSETFROM:+0000
TZOFFSETTO:+0100
TZNAME:BST
DTSTART:20250330T010000
END:DAYLIGHT
BEGIN:STANDARD
TZOFFSETFROM:+0100
TZOFFSETTO:+0000
TZNAME:GMT
DTSTART:20251026T010000
END:STANDARD
BEGIN:DAYLIGHT
TZOFFSETFROM:+0000
TZOFFSETTO:+0100
TZNAME:BST
DTSTART:20260329T010000
END:DAYLIGHT
BEGIN:STANDARD
TZOFFSETFROM:+0100
TZOFFSETTO:+0000
TZNAME:GMT
DTSTART:20261025T010000
END:STANDARD
END:VTIMEZONE
BEGIN:VEVENT
DTSTART;VALUE=DATE:20251103
DTEND;VALUE=DATE:20251104
DTSTAMP:20260422T150849
CREATED:20250805T075533Z
LAST-MODIFIED:20250805T075533Z
UID:4286-1762128000-1762214399@sjwms.org.uk
SUMMARY:TERM 2 BEGINS
DESCRIPTION:
URL:https://sjwms.org.uk/event/term-2-begins-2/
CATEGORIES:School Dates,Term Dates
END:VEVENT
BEGIN:VEVENT
DTSTART;VALUE=DATE:20251103
DTEND;VALUE=DATE:20251108
DTSTAMP:20260422T150849
CREATED:20250805T075622Z
LAST-MODIFIED:20250805T075622Z
UID:4287-1762128000-1762559999@sjwms.org.uk
SUMMARY:Year 12 exam week
DESCRIPTION:
URL:https://sjwms.org.uk/event/year-12-exam-week/
CATEGORIES:School Dates
END:VEVENT
BEGIN:VEVENT
DTSTART;TZID=Europe/London:20251103T190000
DTEND;TZID=Europe/London:20251103T191500
DTSTAMP:20260422T150849
CREATED:20251027T105136Z
LAST-MODIFIED:20251027T140021Z
UID:4516-1762196400-1762197300@sjwms.org.uk
SUMMARY:RMSA Extraordinary General Meeting
DESCRIPTION:
URL:https://sjwms.org.uk/event/rmsa-extraordinary-general-meeting/
LOCATION:Room E1
END:VEVENT
BEGIN:VEVENT
DTSTART;TZID=Europe/London:20251103T191500
DTEND;TZID=Europe/London:20251103T203000
DTSTAMP:20260422T150849
CREATED:20251027T105315Z
LAST-MODIFIED:20251027T135948Z
UID:4518-1762197300-1762201800@sjwms.org.uk
SUMMARY:RMSA Regular Meeting
DESCRIPTION:
URL:https://sjwms.org.uk/event/rmsa-regular-meeting/
LOCATION:Room E1
END:VEVENT
END:VCALENDAR