BEGIN:VCALENDAR
VERSION:2.0
PRODID:-//Sir Joseph Williamson&#039;s Mathematical School - ECPv6.15.20//NONSGML v1.0//EN
CALSCALE:GREGORIAN
METHOD:PUBLISH
X-ORIGINAL-URL:https://sjwms.org.uk
X-WR-CALDESC:Events for Sir Joseph Williamson&#039;s Mathematical School
REFRESH-INTERVAL;VALUE=DURATION:PT1H
X-Robots-Tag:noindex
X-PUBLISHED-TTL:PT1H
BEGIN:VTIMEZONE
TZID:Europe/London
BEGIN:DAYLIGHT
TZOFFSETFROM:+0000
TZOFFSETTO:+0100
TZNAME:BST
DTSTART:20240331T010000
END:DAYLIGHT
BEGIN:STANDARD
TZOFFSETFROM:+0100
TZOFFSETTO:+0000
TZNAME:GMT
DTSTART:20241027T010000
END:STANDARD
BEGIN:DAYLIGHT
TZOFFSETFROM:+0000
TZOFFSETTO:+0100
TZNAME:BST
DTSTART:20250330T010000
END:DAYLIGHT
BEGIN:STANDARD
TZOFFSETFROM:+0100
TZOFFSETTO:+0000
TZNAME:GMT
DTSTART:20251026T010000
END:STANDARD
BEGIN:DAYLIGHT
TZOFFSETFROM:+0000
TZOFFSETTO:+0100
TZNAME:BST
DTSTART:20260329T010000
END:DAYLIGHT
BEGIN:STANDARD
TZOFFSETFROM:+0100
TZOFFSETTO:+0000
TZNAME:GMT
DTSTART:20261025T010000
END:STANDARD
END:VTIMEZONE
BEGIN:VEVENT
DTSTART;TZID=Europe/London:20251006T091500
DTEND;TZID=Europe/London:20251006T101500
DTSTAMP:20260422T132815
CREATED:20250805T074852Z
LAST-MODIFIED:20250805T115131Z
UID:4280-1759742100-1759745700@sjwms.org.uk
SUMMARY:Open Day tours (Y6)
DESCRIPTION:By Appointment only – please phone the school to book a place
URL:https://sjwms.org.uk/event/open-day-tours-y6-3/
CATEGORIES:School Dates
END:VEVENT
BEGIN:VEVENT
DTSTART;TZID=Europe/London:20251006T141000
DTEND;TZID=Europe/London:20251006T151000
DTSTAMP:20260422T132815
CREATED:20250805T074956Z
LAST-MODIFIED:20250805T115209Z
UID:4281-1759759800-1759763400@sjwms.org.uk
SUMMARY:Open Day tours (Y6)
DESCRIPTION:By Appointment only – please phone the school to book a place
URL:https://sjwms.org.uk/event/open-day-tours-y6-4/
CATEGORIES:School Dates
END:VEVENT
END:VCALENDAR