BEGIN:VCALENDAR
VERSION:2.0
PRODID:-//Sir Joseph Williamson&#039;s Mathematical School - ECPv6.15.20//NONSGML v1.0//EN
CALSCALE:GREGORIAN
METHOD:PUBLISH
X-ORIGINAL-URL:https://sjwms.org.uk
X-WR-CALDESC:Events for Sir Joseph Williamson&#039;s Mathematical School
REFRESH-INTERVAL;VALUE=DURATION:PT1H
X-Robots-Tag:noindex
X-PUBLISHED-TTL:PT1H
BEGIN:VTIMEZONE
TZID:Europe/London
BEGIN:DAYLIGHT
TZOFFSETFROM:+0000
TZOFFSETTO:+0100
TZNAME:BST
DTSTART:20240331T010000
END:DAYLIGHT
BEGIN:STANDARD
TZOFFSETFROM:+0100
TZOFFSETTO:+0000
TZNAME:GMT
DTSTART:20241027T010000
END:STANDARD
BEGIN:DAYLIGHT
TZOFFSETFROM:+0000
TZOFFSETTO:+0100
TZNAME:BST
DTSTART:20250330T010000
END:DAYLIGHT
BEGIN:STANDARD
TZOFFSETFROM:+0100
TZOFFSETTO:+0000
TZNAME:GMT
DTSTART:20251026T010000
END:STANDARD
BEGIN:DAYLIGHT
TZOFFSETFROM:+0000
TZOFFSETTO:+0100
TZNAME:BST
DTSTART:20260329T010000
END:DAYLIGHT
BEGIN:STANDARD
TZOFFSETFROM:+0100
TZOFFSETTO:+0000
TZNAME:GMT
DTSTART:20261025T010000
END:STANDARD
END:VTIMEZONE
BEGIN:VEVENT
DTSTART;TZID=Europe/London:20250929T091500
DTEND;TZID=Europe/London:20250929T101500
DTSTAMP:20260424T111650
CREATED:20250805T074428Z
LAST-MODIFIED:20250805T112840Z
UID:4276-1759137300-1759140900@sjwms.org.uk
SUMMARY:Open Day tours (Y6)
DESCRIPTION:By Appointment only – please phone the school to book a place
URL:https://sjwms.org.uk/event/open-day-tours-y6/
CATEGORIES:School Dates
END:VEVENT
BEGIN:VEVENT
DTSTART;TZID=Europe/London:20250929T141000
DTEND;TZID=Europe/London:20250929T151000
DTSTAMP:20260424T111651
CREATED:20250805T074549Z
LAST-MODIFIED:20250805T114030Z
UID:4277-1759155000-1759158600@sjwms.org.uk
SUMMARY:Open Day tours (Y6)
DESCRIPTION:By Appointment only – please phone the school to book a place
URL:https://sjwms.org.uk/event/open-day-tours-y6-2/
CATEGORIES:School Dates
END:VEVENT
BEGIN:VEVENT
DTSTART;TZID=Europe/London:20250929T173000
DTEND;TZID=Europe/London:20250929T190000
DTSTAMP:20260424T111651
CREATED:20250805T074637Z
LAST-MODIFIED:20250805T074637Z
UID:4278-1759167000-1759172400@sjwms.org.uk
SUMMARY:A Level & GCSE Music Performance evening
DESCRIPTION:
URL:https://sjwms.org.uk/event/a-level-gcse-music-performance-evening/
CATEGORIES:School Dates
END:VEVENT
END:VCALENDAR